BEGIN:VCALENDAR
VERSION:2.0
PRODID:-//CNPL Paimpol - ECPv6.15.20//NONSGML v1.0//EN
CALSCALE:GREGORIAN
METHOD:PUBLISH
X-WR-CALNAME:CNPL Paimpol
X-ORIGINAL-URL:https://cercle-nautique-paimpol.bzh
X-WR-CALDESC:Évènements pour CNPL Paimpol
REFRESH-INTERVAL;VALUE=DURATION:PT1H
X-Robots-Tag:noindex
X-PUBLISHED-TTL:PT1H
BEGIN:VTIMEZONE
TZID:Europe/Paris
BEGIN:DAYLIGHT
TZOFFSETFROM:+0100
TZOFFSETTO:+0200
TZNAME:CEST
DTSTART:20240331T010000
END:DAYLIGHT
BEGIN:STANDARD
TZOFFSETFROM:+0200
TZOFFSETTO:+0100
TZNAME:CET
DTSTART:20241027T010000
END:STANDARD
BEGIN:DAYLIGHT
TZOFFSETFROM:+0100
TZOFFSETTO:+0200
TZNAME:CEST
DTSTART:20250330T010000
END:DAYLIGHT
BEGIN:STANDARD
TZOFFSETFROM:+0200
TZOFFSETTO:+0100
TZNAME:CET
DTSTART:20251026T010000
END:STANDARD
BEGIN:DAYLIGHT
TZOFFSETFROM:+0100
TZOFFSETTO:+0200
TZNAME:CEST
DTSTART:20260329T010000
END:DAYLIGHT
BEGIN:STANDARD
TZOFFSETFROM:+0200
TZOFFSETTO:+0100
TZNAME:CET
DTSTART:20261025T010000
END:STANDARD
END:VTIMEZONE
BEGIN:VEVENT
DTSTART;VALUE=DATE:20251019
DTEND;VALUE=DATE:20251020
DTSTAMP:20260420T195720
CREATED:20250929T210843Z
LAST-MODIFIED:20250929T210843Z
UID:5795-1760832000-1760918399@cercle-nautique-paimpol.bzh
SUMMARY:Rallye nautique du CNPL le dimanche 19 octobre 2025
DESCRIPTION:Daniel Bothorel propose un rallye nautique\, il serait utile de connaître rapidement le nombre de participants intéressés par cette sortie conviviale\, dont voici les éléments essentiels :\nLieu de rassemblement : La balise de la Jument\, dans le Sud-Est de l’Île St Riom à 9h00.\nDestination : Gwin-Zégal pour le déjeuner.\nPM : 6h30 et 18h43\nCoef : 79\nCanal VHF : 8\nBien sûr\, il faudra composer avec la météo du jour qui nous imposera de changer de destination ou bien d’annuler la sortie.\nMerci de bien vouloir vous inscrire par mail\, via framaliste pour les membres du CNPL\, avec votre numéro de\ntéléphone.  Pour les personnes externes au CNPL qui seraient intéressées\, merci de prendre contact via la fiche de contact présente sur ce site.
URL:https://cercle-nautique-paimpol.bzh/evenements/rallye-nautique-du-cnpl-le-dimanche-19-octobre-2025/
LOCATION:Port de Paimpol
CATEGORIES:Sortie nautique
ATTACH;FMTTYPE=image/jpeg:https://cercle-nautique-paimpol.bzh/wp-content/uploads/2024/06/2024-05-Pontrieux-11.jpg
END:VEVENT
END:VCALENDAR